BEGIN:VCALENDAR
VERSION:2.0
PRODID:-//Strictly Seasons Gifts and Hampers - ECPv6.6.4.2//NONSGML v1.0//EN
CALSCALE:GREGORIAN
METHOD:PUBLISH
X-WR-CALNAME:Strictly Seasons Gifts and Hampers
X-ORIGINAL-URL:https://strictlyseasons.com
X-WR-CALDESC:Events for Strictly Seasons Gifts and Hampers
REFRESH-INTERVAL;VALUE=DURATION:PT1H
X-Robots-Tag:noindex
X-PUBLISHED-TTL:PT1H
BEGIN:VTIMEZONE
TZID:UTC
BEGIN:STANDARD
TZOFFSETFROM:+0000
TZOFFSETTO:+0000
TZNAME:UTC
DTSTART:20250101T000000
END:STANDARD
END:VTIMEZONE
BEGIN:VEVENT
DTSTART;VALUE=DATE:20250214
DTEND;VALUE=DATE:20250215
DTSTAMP:20260422T103443
CREATED:20240924T185912Z
LAST-MODIFIED:20241115T102741Z
UID:9746-1739491200-1739577599@strictlyseasons.com
SUMMARY:International Book Giving Day
DESCRIPTION:The gift of a book is a gift of a thousand worlds! Let’s help you with the perfect stack!
URL:https://strictlyseasons.com/calendar/international-book-giving-day/
CATEGORIES:Event Days
END:VEVENT
BEGIN:VEVENT
DTSTART;VALUE=DATE:20250214
DTEND;VALUE=DATE:20250215
DTSTAMP:20260422T103443
CREATED:20241102T101220Z
LAST-MODIFIED:20241115T102400Z
UID:9920-1739491200-1739577599@strictlyseasons.com
SUMMARY:Valentine's Day
DESCRIPTION:Celebrating love and affection with a gift from your heart!
URL:https://strictlyseasons.com/calendar/valentines-day-2/
CATEGORIES:Casual Gifting Days,Event Days
END:VEVENT
END:VCALENDAR