BEGIN:VCALENDAR
VERSION:2.0
PRODID:-//Strictly Seasons Gifts and Hampers - ECPv6.6.4.2//NONSGML v1.0//EN
CALSCALE:GREGORIAN
METHOD:PUBLISH
X-ORIGINAL-URL:https://strictlyseasons.com
X-WR-CALDESC:Events for Strictly Seasons Gifts and Hampers
REFRESH-INTERVAL;VALUE=DURATION:PT1H
X-Robots-Tag:noindex
X-PUBLISHED-TTL:PT1H
BEGIN:VTIMEZONE
TZID:UTC
BEGIN:STANDARD
TZOFFSETFROM:+0000
TZOFFSETTO:+0000
TZNAME:UTC
DTSTART:20250101T000000
END:STANDARD
END:VTIMEZONE
BEGIN:VEVENT
DTSTART;VALUE=DATE:20250215
DTEND;VALUE=DATE:20250216
DTSTAMP:20260422T103612
CREATED:20241102T231457Z
LAST-MODIFIED:20241115T001549Z
UID:9923-1739577600-1739663999@strictlyseasons.com
SUMMARY:International Childhood Cancer Day
DESCRIPTION:Raising awareness for childhood cancer and supporting young patients and their families.
URL:https://strictlyseasons.com/calendar/international-childhood-cancer-day/
CATEGORIES:Event Days
END:VEVENT
END:VCALENDAR