BEGIN:VCALENDAR
VERSION:2.0
PRODID:-//Strictly Seasons Gifts and Hampers - ECPv6.6.4.2//NONSGML v1.0//EN
CALSCALE:GREGORIAN
METHOD:PUBLISH
X-ORIGINAL-URL:https://strictlyseasons.com
X-WR-CALDESC:Events for Strictly Seasons Gifts and Hampers
REFRESH-INTERVAL;VALUE=DURATION:PT1H
X-Robots-Tag:noindex
X-PUBLISHED-TTL:PT1H
BEGIN:VTIMEZONE
TZID:UTC
BEGIN:STANDARD
TZOFFSETFROM:+0000
TZOFFSETTO:+0000
TZNAME:UTC
DTSTART:20250101T000000
END:STANDARD
END:VTIMEZONE
BEGIN:VEVENT
DTSTART;VALUE=DATE:20250506
DTEND;VALUE=DATE:20250507
DTSTAMP:20260422T062740
CREATED:20240924T191609Z
LAST-MODIFIED:20241115T101252Z
UID:9772-1746489600-1746575999@strictlyseasons.com
SUMMARY:Teacher's Appreciation Week
DESCRIPTION:Show your appreciation for the teacher who made a difference.
URL:https://strictlyseasons.com/calendar/teachers-appreciation-day/
CATEGORIES:Event Days
END:VEVENT
END:VCALENDAR