BEGIN:VCALENDAR
VERSION:2.0
PRODID:-//Strictly Seasons Gifts and Hampers - ECPv6.6.4.2//NONSGML v1.0//EN
CALSCALE:GREGORIAN
METHOD:PUBLISH
X-ORIGINAL-URL:https://strictlyseasons.com
X-WR-CALDESC:Events for Strictly Seasons Gifts and Hampers
REFRESH-INTERVAL;VALUE=DURATION:PT1H
X-Robots-Tag:noindex
X-PUBLISHED-TTL:PT1H
BEGIN:VTIMEZONE
TZID:UTC
BEGIN:STANDARD
TZOFFSETFROM:+0000
TZOFFSETTO:+0000
TZNAME:UTC
DTSTART:20250101T000000
END:STANDARD
END:VTIMEZONE
BEGIN:VEVENT
DTSTART;VALUE=DATE:20250527
DTEND;VALUE=DATE:20250528
DTSTAMP:20260422T050305
CREATED:20240924T192222Z
LAST-MODIFIED:20241115T213228Z
UID:9788-1748304000-1748390399@strictlyseasons.com
SUMMARY:Children's Day
DESCRIPTION:  \nCelebrate the innocence of childhood. Make their day brighter with a special gift!
URL:https://strictlyseasons.com/calendar/childrens-day/
CATEGORIES:Casual Gifting Days,Event Days
END:VEVENT
END:VCALENDAR