BEGIN:VCALENDAR
VERSION:2.0
PRODID:-//Strictly Seasons Gifts and Hampers - ECPv6.6.4.2//NONSGML v1.0//EN
CALSCALE:GREGORIAN
METHOD:PUBLISH
X-ORIGINAL-URL:https://strictlyseasons.com
X-WR-CALDESC:Events for Strictly Seasons Gifts and Hampers
REFRESH-INTERVAL;VALUE=DURATION:PT1H
X-Robots-Tag:noindex
X-PUBLISHED-TTL:PT1H
BEGIN:VTIMEZONE
TZID:UTC
BEGIN:STANDARD
TZOFFSETFROM:+0000
TZOFFSETTO:+0000
TZNAME:UTC
DTSTART:20250101T000000
END:STANDARD
END:VTIMEZONE
BEGIN:VEVENT
DTSTART;VALUE=DATE:20251009
DTEND;VALUE=DATE:20251010
DTSTAMP:20260421T230929
CREATED:20240924T193656Z
LAST-MODIFIED:20241115T000758Z
UID:9809-1759968000-1760054399@strictlyseasons.com
SUMMARY:Customer Service Day
DESCRIPTION:
URL:https://strictlyseasons.com/calendar/customer-service-day-4/
CATEGORIES:Event Days
END:VEVENT
END:VCALENDAR