BEGIN:VCALENDAR
VERSION:2.0
PRODID:-//Strictly Seasons Gifts and Hampers - ECPv6.6.4.2//NONSGML v1.0//EN
CALSCALE:GREGORIAN
METHOD:PUBLISH
X-WR-CALNAME:Strictly Seasons Gifts and Hampers
X-ORIGINAL-URL:https://strictlyseasons.com
X-WR-CALDESC:Events for Strictly Seasons Gifts and Hampers
REFRESH-INTERVAL;VALUE=DURATION:PT1H
X-Robots-Tag:noindex
X-PUBLISHED-TTL:PT1H
BEGIN:VTIMEZONE
TZID:UTC
BEGIN:STANDARD
TZOFFSETFROM:+0000
TZOFFSETTO:+0000
TZNAME:UTC
DTSTART:20250101T000000
END:STANDARD
END:VTIMEZONE
BEGIN:VEVENT
DTSTART;VALUE=DATE:20251225
DTEND;VALUE=DATE:20251226
DTSTAMP:20260421T231200
CREATED:20240924T195854Z
LAST-MODIFIED:20241115T095157Z
UID:9828-1766620800-1766707199@strictlyseasons.com
SUMMARY:Christmas Day
DESCRIPTION:Make Christmas magical with the perfect gift!
URL:https://strictlyseasons.com/calendar/christmas-day-2/
CATEGORIES:Casual Gifting Days,Event Days
END:VEVENT
BEGIN:VEVENT
DTSTART;VALUE=DATE:20251231
DTEND;VALUE=DATE:20260101
DTSTAMP:20260421T231200
CREATED:20241115T000402Z
LAST-MODIFIED:20241115T000402Z
UID:10041-1767139200-1767225599@strictlyseasons.com
SUMMARY:New Year's Eve
DESCRIPTION:Here’s your last chance in the year to show your loved ones you care!
URL:https://strictlyseasons.com/calendar/new-years-eve-3/
CATEGORIES:Casual Gifting Days,Event Days
END:VEVENT
END:VCALENDAR