BEGIN:VCALENDAR
VERSION:2.0
PRODID:-//Strictly Seasons Gifts and Hampers - ECPv6.6.4.2//NONSGML v1.0//EN
CALSCALE:GREGORIAN
METHOD:PUBLISH
X-WR-CALNAME:Strictly Seasons Gifts and Hampers
X-ORIGINAL-URL:https://strictlyseasons.com
X-WR-CALDESC:Events for Strictly Seasons Gifts and Hampers
REFRESH-INTERVAL;VALUE=DURATION:PT1H
X-Robots-Tag:noindex
X-PUBLISHED-TTL:PT1H
BEGIN:VTIMEZONE
TZID:UTC
BEGIN:STANDARD
TZOFFSETFROM:+0000
TZOFFSETTO:+0000
TZNAME:UTC
DTSTART:20250101T000000
END:STANDARD
END:VTIMEZONE
BEGIN:VEVENT
DTSTART;VALUE=DATE:20250601
DTEND;VALUE=DATE:20250602
DTSTAMP:20260422T225647
CREATED:20241114T221943Z
LAST-MODIFIED:20241114T221943Z
UID:9977-1748736000-1748822399@strictlyseasons.com
SUMMARY:Global Day of Parents
DESCRIPTION:Celebrating Global Day of Parents! 🎉 A day to honor the selfless love and unwavering support of parents worldwide. #GlobalDayofParents #ParentsRock
URL:https://strictlyseasons.com/calendar/global-day-of-parents/
CATEGORIES:Casual Gifting Days
END:VEVENT
BEGIN:VEVENT
DTSTART;VALUE=DATE:20250527
DTEND;VALUE=DATE:20250528
DTSTAMP:20260422T225647
CREATED:20240924T192222Z
LAST-MODIFIED:20241115T213228Z
UID:9788-1748304000-1748390399@strictlyseasons.com
SUMMARY:Children's Day
DESCRIPTION:  \nCelebrate the innocence of childhood. Make their day brighter with a special gift!
URL:https://strictlyseasons.com/calendar/childrens-day/
CATEGORIES:Casual Gifting Days,Event Days
END:VEVENT
BEGIN:VEVENT
DTSTART;VALUE=DATE:20250510
DTEND;VALUE=DATE:20250511
DTSTAMP:20260422T225647
CREATED:20240924T191934Z
LAST-MODIFIED:20240924T191947Z
UID:9780-1746835200-1746921599@strictlyseasons.com
SUMMARY:Teacher's Appreciation Week
DESCRIPTION:
URL:https://strictlyseasons.com/calendar/teachers-appreciation-day-5/
END:VEVENT
BEGIN:VEVENT
DTSTART;VALUE=DATE:20250509
DTEND;VALUE=DATE:20250510
DTSTAMP:20260422T225647
CREATED:20240924T191837Z
LAST-MODIFIED:20240924T192005Z
UID:9778-1746748800-1746835199@strictlyseasons.com
SUMMARY:Teacher's Appreciation Week
DESCRIPTION:
URL:https://strictlyseasons.com/calendar/teachers-appreciation-day-4/
END:VEVENT
BEGIN:VEVENT
DTSTART;VALUE=DATE:20250508
DTEND;VALUE=DATE:20250509
DTSTAMP:20260422T225647
CREATED:20240924T191755Z
LAST-MODIFIED:20240924T192018Z
UID:9776-1746662400-1746748799@strictlyseasons.com
SUMMARY:Teacher's Appreciation Week
DESCRIPTION:
URL:https://strictlyseasons.com/calendar/teachers-appreciation-day-3/
END:VEVENT
BEGIN:VEVENT
DTSTART;VALUE=DATE:20250507
DTEND;VALUE=DATE:20250508
DTSTAMP:20260422T225647
CREATED:20240924T191735Z
LAST-MODIFIED:20240924T192049Z
UID:9774-1746576000-1746662399@strictlyseasons.com
SUMMARY:Teacher's Appreciation Week
DESCRIPTION:
URL:https://strictlyseasons.com/calendar/teachers-appreciation-day-2/
END:VEVENT
BEGIN:VEVENT
DTSTART;VALUE=DATE:20250506
DTEND;VALUE=DATE:20250507
DTSTAMP:20260422T225647
CREATED:20240924T191609Z
LAST-MODIFIED:20241115T101252Z
UID:9772-1746489600-1746575999@strictlyseasons.com
SUMMARY:Teacher's Appreciation Week
DESCRIPTION:Show your appreciation for the teacher who made a difference.
URL:https://strictlyseasons.com/calendar/teachers-appreciation-day/
CATEGORIES:Event Days
END:VEVENT
BEGIN:VEVENT
DTSTART;VALUE=DATE:20250501
DTEND;VALUE=DATE:20250502
DTSTAMP:20260422T225647
CREATED:20240924T191452Z
LAST-MODIFIED:20241115T101445Z
UID:9770-1746057600-1746143999@strictlyseasons.com
SUMMARY:Worker's Day
DESCRIPTION:Hardwork deserves a reward. Celebrate the heroes who make the world go round with thoughtful gifts!
URL:https://strictlyseasons.com/calendar/workers-day/
CATEGORIES:Event Days
END:VEVENT
BEGIN:VEVENT
DTSTART;VALUE=DATE:20250422
DTEND;VALUE=DATE:20250423
DTSTAMP:20260422T225647
CREATED:20240924T191353Z
LAST-MODIFIED:20241115T101931Z
UID:9768-1745280000-1745366399@strictlyseasons.com
SUMMARY:Earth Day
DESCRIPTION:Celebrate Earth Day with a sustainable gift. Need ideas? Let’s help you!
URL:https://strictlyseasons.com/calendar/earth-day/
CATEGORIES:Event Days
END:VEVENT
BEGIN:VEVENT
DTSTART;VALUE=DATE:20250421
DTEND;VALUE=DATE:20250422
DTSTAMP:20260422T225647
CREATED:20240924T191317Z
LAST-MODIFIED:20241115T101748Z
UID:9766-1745193600-1745279999@strictlyseasons.com
SUMMARY:Easter Monday
DESCRIPTION:Happy Easter! Make it memorable for loved ones\, friends\, colleagues or clients with a special gift!
URL:https://strictlyseasons.com/calendar/easter-monday/
CATEGORIES:Casual Gifting Days,Event Days
END:VEVENT
BEGIN:VEVENT
DTSTART;VALUE=DATE:20250420
DTEND;VALUE=DATE:20250421
DTSTAMP:20260422T225647
CREATED:20240924T191128Z
LAST-MODIFIED:20241115T101643Z
UID:9764-1745107200-1745193599@strictlyseasons.com
SUMMARY:Easter Sunday
DESCRIPTION:Make Easter extra egg-citing with a perfect gift!
URL:https://strictlyseasons.com/calendar/easter-sunday/
CATEGORIES:Casual Gifting Days,Event Days
END:VEVENT
BEGIN:VEVENT
DTSTART;VALUE=DATE:20250418
DTEND;VALUE=DATE:20250419
DTSTAMP:20260422T225647
CREATED:20240924T191028Z
LAST-MODIFIED:20241115T101558Z
UID:9762-1744934400-1745020799@strictlyseasons.com
SUMMARY:Good Friday
DESCRIPTION:Celebrate the ultimate sacrifice with a gift of love!
URL:https://strictlyseasons.com/calendar/good-friday/
CATEGORIES:Casual Gifting Days,Event Days
END:VEVENT
BEGIN:VEVENT
DTSTART;VALUE=DATE:20250401
DTEND;VALUE=DATE:20250402
DTSTAMP:20260422T225647
CREATED:20241103T222014Z
LAST-MODIFIED:20241115T001003Z
UID:9969-1743465600-1743551999@strictlyseasons.com
SUMMARY:April Fool
DESCRIPTION:A day for lighthearted pranks and jokes.
URL:https://strictlyseasons.com/calendar/april-fool/
CATEGORIES:Casual Gifting Days
END:VEVENT
BEGIN:VEVENT
DTSTART;VALUE=DATE:20250330
DTEND;VALUE=DATE:20250331
DTSTAMP:20260422T225647
CREATED:20240924T190917Z
LAST-MODIFIED:20241115T102230Z
UID:9760-1743292800-1743379199@strictlyseasons.com
SUMMARY:Eid-Al-Fitr
DESCRIPTION:Make this Eid unforgettable with a thoughtful gift!
URL:https://strictlyseasons.com/calendar/eid-al-fitr/
CATEGORIES:Casual Gifting Days,Event Days
END:VEVENT
BEGIN:VEVENT
DTSTART;VALUE=DATE:20250330
DTEND;VALUE=DATE:20250331
DTSTAMP:20260422T225647
CREATED:20240924T190830Z
LAST-MODIFIED:20241115T102324Z
UID:9758-1743292800-1743379199@strictlyseasons.com
SUMMARY:Mother's Day
DESCRIPTION:Celebrate the woman who shaped your world. Give her a thoughtful gift this mother’s day!
URL:https://strictlyseasons.com/calendar/mothers-day/
CATEGORIES:Casual Gifting Days,Event Days
END:VEVENT
BEGIN:VEVENT
DTSTART;VALUE=DATE:20250327
DTEND;VALUE=DATE:20250328
DTSTAMP:20260422T225647
CREATED:20241103T221526Z
LAST-MODIFIED:20241115T001021Z
UID:9967-1743033600-1743119999@strictlyseasons.com
SUMMARY:World Theatre Day
DESCRIPTION:Celebrating the power of theatre to inspire\, educate\, and entertain.
URL:https://strictlyseasons.com/calendar/world-theatre-day/
CATEGORIES:Event Days
END:VEVENT
BEGIN:VEVENT
DTSTART;VALUE=DATE:20250324
DTEND;VALUE=DATE:20250325
DTSTAMP:20260422T225647
CREATED:20241103T221219Z
LAST-MODIFIED:20241115T001043Z
UID:9965-1742774400-1742860799@strictlyseasons.com
SUMMARY:World Tuberculosis Day
DESCRIPTION:Raising awareness about tuberculosis and promoting efforts to eliminate the disease.
URL:https://strictlyseasons.com/calendar/world-tuberculosis-day/
CATEGORIES:Event Days
END:VEVENT
BEGIN:VEVENT
DTSTART;VALUE=DATE:20250323
DTEND;VALUE=DATE:20250324
DTSTAMP:20260422T225647
CREATED:20241103T220838Z
LAST-MODIFIED:20241115T001052Z
UID:9962-1742688000-1742774399@strictlyseasons.com
SUMMARY:World Meteorological Day
DESCRIPTION:Highlighting the importance of meteorology in our daily lives and for the safety of society.
URL:https://strictlyseasons.com/calendar/world-meteorological-day/
CATEGORIES:Event Days
END:VEVENT
BEGIN:VEVENT
DTSTART;VALUE=DATE:20250321
DTEND;VALUE=DATE:20250322
DTSTAMP:20260422T225647
CREATED:20241103T220523Z
LAST-MODIFIED:20241115T001057Z
UID:9960-1742515200-1742601599@strictlyseasons.com
SUMMARY:World Poetry Day
DESCRIPTION:Celebrating the power of poetry to inspire\, connect\, and transform.
URL:https://strictlyseasons.com/calendar/world-poetry-day/
CATEGORIES:Event Days
END:VEVENT
BEGIN:VEVENT
DTSTART;VALUE=DATE:20250321
DTEND;VALUE=DATE:20250322
DTSTAMP:20260422T225647
CREATED:20241103T220244Z
LAST-MODIFIED:20241115T001102Z
UID:9958-1742515200-1742601599@strictlyseasons.com
SUMMARY:World Down Syndrome Day
DESCRIPTION:Promoting awareness and inclusion for people with Down syndrome.
URL:https://strictlyseasons.com/calendar/world-down-syndrome-day/
CATEGORIES:Event Days
END:VEVENT
BEGIN:VEVENT
DTSTART;VALUE=DATE:20250321
DTEND;VALUE=DATE:20250322
DTSTAMP:20260422T225647
CREATED:20241103T214208Z
LAST-MODIFIED:20241115T001108Z
UID:9956-1742515200-1742601599@strictlyseasons.com
SUMMARY:International Day of Forests
DESCRIPTION:Celebrating the importance of forests for life on Earth.
URL:https://strictlyseasons.com/calendar/international-day-of-forests/
CATEGORIES:Event Days
END:VEVENT
BEGIN:VEVENT
DTSTART;VALUE=DATE:20250321
DTEND;VALUE=DATE:20250322
DTSTAMP:20260422T225647
CREATED:20240924T190732Z
LAST-MODIFIED:20241115T102540Z
UID:9756-1742515200-1742601599@strictlyseasons.com
SUMMARY:National Fragrance Day
DESCRIPTION:Gift the Perfect Signature Scent!
URL:https://strictlyseasons.com/calendar/national-fragrance-day/
CATEGORIES:Casual Gifting Days
END:VEVENT
BEGIN:VEVENT
DTSTART;VALUE=DATE:20250313
DTEND;VALUE=DATE:20250314
DTSTAMP:20260422T225647
CREATED:20241103T192831Z
LAST-MODIFIED:20241115T001130Z
UID:9954-1741824000-1741910399@strictlyseasons.com
SUMMARY:World Kidney Day
DESCRIPTION:Raising awareness about kidney disease and promotes kidney health.
URL:https://strictlyseasons.com/calendar/world-kidney-day/
CATEGORIES:Event Days
END:VEVENT
BEGIN:VEVENT
DTSTART;VALUE=DATE:20250308
DTEND;VALUE=DATE:20250309
DTSTAMP:20260422T225647
CREATED:20241115T002058Z
LAST-MODIFIED:20241115T002058Z
UID:10045-1741392000-1741478399@strictlyseasons.com
SUMMARY:International Women's Day
DESCRIPTION:Celebrate her\, cherish her\, gift her! Celebrate the amazing women in your life with carefully curated gifts.
URL:https://strictlyseasons.com/calendar/international-womens-day/
CATEGORIES:Casual Gifting Days,Event Days
END:VEVENT
BEGIN:VEVENT
DTSTART;VALUE=DATE:20250307
DTEND;VALUE=DATE:20250308
DTSTAMP:20260422T225647
CREATED:20241103T184930Z
LAST-MODIFIED:20241115T001248Z
UID:9950-1741305600-1741391999@strictlyseasons.com
SUMMARY:Employee Appreciation Day
DESCRIPTION:Celebrating employees for their contributions.
URL:https://strictlyseasons.com/calendar/employee-appreciation-day-2/
CATEGORIES:Event Days
END:VEVENT
BEGIN:VEVENT
DTSTART;VALUE=DATE:20250305
DTEND;VALUE=DATE:20250306
DTSTAMP:20260422T225647
CREATED:20241103T184044Z
LAST-MODIFIED:20241115T001310Z
UID:9946-1741132800-1741219199@strictlyseasons.com
SUMMARY:Ash Wednesday
DESCRIPTION:Marks the beginning of Lent\, a time of reflection and spiritual preparation.
URL:https://strictlyseasons.com/calendar/ash-wednesday/
CATEGORIES:Event Days
END:VEVENT
BEGIN:VEVENT
DTSTART;VALUE=DATE:20250303
DTEND;VALUE=DATE:20250304
DTSTAMP:20260422T225647
CREATED:20241102T234112Z
LAST-MODIFIED:20241115T001339Z
UID:9940-1740960000-1741046399@strictlyseasons.com
SUMMARY:World Hearing Day
DESCRIPTION:Raising awareness about hearing loss and promotes ear and hearing care.
URL:https://strictlyseasons.com/calendar/world-hearing-day/
CATEGORIES:Event Days
END:VEVENT
BEGIN:VEVENT
DTSTART;VALUE=DATE:20250302
DTEND;VALUE=DATE:20250303
DTSTAMP:20260422T225647
CREATED:20241102T233743Z
LAST-MODIFIED:20241115T001345Z
UID:9938-1740873600-1740959999@strictlyseasons.com
SUMMARY:World Teen Mental Wellness Day
DESCRIPTION:Promoting mental health awareness and support for teenagers.
URL:https://strictlyseasons.com/calendar/world-teen-mental-wellness-day/
CATEGORIES:Event Days
END:VEVENT
BEGIN:VEVENT
DTSTART;VALUE=DATE:20250301
DTEND;VALUE=DATE:20250302
DTSTAMP:20260422T225647
CREATED:20241102T233525Z
LAST-MODIFIED:20241115T001407Z
UID:9935-1740787200-1740873599@strictlyseasons.com
SUMMARY:Women's History Month
DESCRIPTION:Celebrating the achievements of women throughout history.
URL:https://strictlyseasons.com/calendar/womens-history-month/
CATEGORIES:Event Days
END:VEVENT
BEGIN:VEVENT
DTSTART;VALUE=DATE:20250228
DTEND;VALUE=DATE:20250301
DTSTAMP:20260422T225647
CREATED:20240924T190231Z
LAST-MODIFIED:20241115T001850Z
UID:9750-1740700800-1740787199@strictlyseasons.com
SUMMARY:First Day Of Ramadan
DESCRIPTION:
URL:https://strictlyseasons.com/calendar/first-day-of-ramadan/
CATEGORIES:Casual Gifting Days,Event Days
END:VEVENT
END:VCALENDAR