BEGIN:VCALENDAR
VERSION:2.0
PRODID:-//Strictly Seasons Gifts and Hampers - ECPv6.6.4.2//NONSGML v1.0//EN
CALSCALE:GREGORIAN
METHOD:PUBLISH
X-WR-CALNAME:Strictly Seasons Gifts and Hampers
X-ORIGINAL-URL:https://strictlyseasons.com
X-WR-CALDESC:Events for Strictly Seasons Gifts and Hampers
REFRESH-INTERVAL;VALUE=DURATION:PT1H
X-Robots-Tag:noindex
X-PUBLISHED-TTL:PT1H
BEGIN:VTIMEZONE
TZID:UTC
BEGIN:STANDARD
TZOFFSETFROM:+0000
TZOFFSETTO:+0000
TZNAME:UTC
DTSTART:20250101T000000
END:STANDARD
END:VTIMEZONE
BEGIN:VEVENT
DTSTART;VALUE=DATE:20250927
DTEND;VALUE=DATE:20250928
DTSTAMP:20260422T015320
CREATED:20250801T152926Z
LAST-MODIFIED:20250801T152926Z
UID:10285-1758931200-1759017599@strictlyseasons.com
SUMMARY:World Tourism Day
DESCRIPTION:Celebrate the spirit of adventure and culture in your workplace.Gift your team a taste of the world — one thoughtful item at a time. 🎁✈️
URL:https://strictlyseasons.com/calendar/world-tourism-day/
CATEGORIES:Event Days
END:VEVENT
BEGIN:VEVENT
DTSTART;VALUE=DATE:20250922
DTEND;VALUE=DATE:20250923
DTSTAMP:20260422T015320
CREATED:20241114T234014Z
LAST-MODIFIED:20241114T234014Z
UID:10021-1758499200-1758585599@strictlyseasons.com
SUMMARY:World Rose Day
DESCRIPTION:Roses: Nature’s perfect gift. Give one today!
URL:https://strictlyseasons.com/calendar/world-rose-day/
CATEGORIES:Casual Gifting Days
END:VEVENT
BEGIN:VEVENT
DTSTART;VALUE=DATE:20250921
DTEND;VALUE=DATE:20250922
DTSTAMP:20260422T015320
CREATED:20241114T233852Z
LAST-MODIFIED:20241114T233852Z
UID:10019-1758412800-1758499199@strictlyseasons.com
SUMMARY:Wife Appreciation Day
DESCRIPTION:Spoil your queen. She deserves it. Celebrate her today and every day with a gift from Strictly Seasons.
URL:https://strictlyseasons.com/calendar/wife-appreciation-day/
CATEGORIES:Casual Gifting Days
END:VEVENT
BEGIN:VEVENT
DTSTART;VALUE=DATE:20250921
DTEND;VALUE=DATE:20250922
DTSTAMP:20260422T015320
CREATED:20241114T233706Z
LAST-MODIFIED:20241114T233706Z
UID:10017-1758412800-1758499199@strictlyseasons.com
SUMMARY:International Day of Peace
DESCRIPTION:Peace begins with a smile. Gift happiness this International Day of Peace. Let’s celebrate humanity and harmony together.
URL:https://strictlyseasons.com/calendar/international-day-of-peace/
CATEGORIES:Event Days
END:VEVENT
BEGIN:VEVENT
DTSTART;VALUE=DATE:20250921
DTEND;VALUE=DATE:20250922
DTSTAMP:20260422T015320
CREATED:20240924T193217Z
LAST-MODIFIED:20241115T000829Z
UID:9797-1758412800-1758499199@strictlyseasons.com
SUMMARY:World Gratitude Day
DESCRIPTION:
URL:https://strictlyseasons.com/calendar/world-gratitude-day/
CATEGORIES:Casual Gifting Days
END:VEVENT
BEGIN:VEVENT
DTSTART;VALUE=DATE:20250920
DTEND;VALUE=DATE:20250921
DTSTAMP:20260422T015320
CREATED:20241114T233539Z
LAST-MODIFIED:20241114T233539Z
UID:10015-1758326400-1758412799@strictlyseasons.com
SUMMARY:World Cleanup Day
DESCRIPTION:This World Cleanup Day\, let’s make a difference. You can give Eco-friendly gifts or donate to organizations working towards a cleaner environment. Your gift can help clean up our planet and protect our future. 🌱♻️
URL:https://strictlyseasons.com/calendar/world-cleanup-day/
CATEGORIES:Event Days
END:VEVENT
BEGIN:VEVENT
DTSTART;VALUE=DATE:20250908
DTEND;VALUE=DATE:20250909
DTSTAMP:20260422T015320
CREATED:20241114T233338Z
LAST-MODIFIED:20241114T233338Z
UID:10013-1757289600-1757375999@strictlyseasons.com
SUMMARY:International Literacy Day
DESCRIPTION:Gift a book\, gift knowledge. This International Literacy Day\, let’s empower minds and inspire dreams. 📚✨
URL:https://strictlyseasons.com/calendar/international-literacy-day/
CATEGORIES:Event Days
END:VEVENT
BEGIN:VEVENT
DTSTART;VALUE=DATE:20250905
DTEND;VALUE=DATE:20250906
DTSTAMP:20260422T015320
CREATED:20241114T233150Z
LAST-MODIFIED:20241114T233150Z
UID:10011-1757030400-1757116799@strictlyseasons.com
SUMMARY:International Day of Charity
DESCRIPTION:Give the gift of kindness this International Day of Charity. A small act of kindness can make a big difference.
URL:https://strictlyseasons.com/calendar/international-day-of-charity/
CATEGORIES:Event Days
END:VEVENT
BEGIN:VEVENT
DTSTART;VALUE=DATE:20250831
DTEND;VALUE=DATE:20250901
DTSTAMP:20260422T015320
CREATED:20250801T152600Z
LAST-MODIFIED:20250801T152600Z
UID:10283-1756598400-1756684799@strictlyseasons.com
SUMMARY:International Day for People of African Descent
DESCRIPTION:Celebrate the richness of Black identity\, culture\, and excellence.✨ Honour your team with thoughtful gestures that uplift and inspire. \nLet’s make inclusion feel personal — one gift at a time.
URL:https://strictlyseasons.com/calendar/international-day-for-people-of-african-descent/
CATEGORIES:Event Days
END:VEVENT
BEGIN:VEVENT
DTSTART;VALUE=DATE:20250819
DTEND;VALUE=DATE:20250820
DTSTAMP:20260422T015320
CREATED:20241114T232839Z
LAST-MODIFIED:20241114T232839Z
UID:10009-1755561600-1755647999@strictlyseasons.com
SUMMARY:World Humanitarian Day
DESCRIPTION:Gift the ones who give and celebrate them on this day!
URL:https://strictlyseasons.com/calendar/world-humanitarian-day/
CATEGORIES:Event Days
END:VEVENT
BEGIN:VEVENT
DTSTART;TZID=UTC:20250813T080000
DTEND;TZID=UTC:20250813T170000
DTSTAMP:20260422T015320
CREATED:20241114T230635Z
LAST-MODIFIED:20241114T230635Z
UID:10006-1755072000-1755104400@strictlyseasons.com
SUMMARY:Left-Handers Day
DESCRIPTION:Celebrate the unique with a left-handed gift! 🎁 #LeftHandersDay #UniqueGifts
URL:https://strictlyseasons.com/calendar/left-handers-day/
CATEGORIES:Casual Gifting Days
END:VEVENT
BEGIN:VEVENT
DTSTART;VALUE=DATE:20250812
DTEND;VALUE=DATE:20250813
DTSTAMP:20260422T015320
CREATED:20250801T152434Z
LAST-MODIFIED:20250801T152434Z
UID:10281-1754956800-1755043199@strictlyseasons.com
SUMMARY:International Youth Day
DESCRIPTION:🎉 Celebrate the energy\, dreams\, and drive of the next generation.Send a gift. Spark a smile. 🌟
URL:https://strictlyseasons.com/calendar/international-youth-day/
CATEGORIES:Casual Gifting Days,Event Days
END:VEVENT
BEGIN:VEVENT
DTSTART;VALUE=DATE:20250812
DTEND;VALUE=DATE:20250813
DTSTAMP:20260422T015320
CREATED:20241114T230504Z
LAST-MODIFIED:20241114T230504Z
UID:10004-1754956800-1755043199@strictlyseasons.com
SUMMARY:Middle Child Day
DESCRIPTION:Celebrate your middle child today! Show them some extra love and appreciation with a special gift. After all\, being a middle child is a unique and wonderful journey. #MiddleChildDay #GiftGiving
URL:https://strictlyseasons.com/calendar/middle-child-day/
CATEGORIES:Casual Gifting Days
END:VEVENT
BEGIN:VEVENT
DTSTART;VALUE=DATE:20250801
DTEND;VALUE=DATE:20250808
DTSTAMP:20260422T015320
CREATED:20250801T152327Z
LAST-MODIFIED:20250801T152327Z
UID:10279-1754006400-1754611199@strictlyseasons.com
SUMMARY:World Breastfeeding Week
DESCRIPTION:🗓️ It’s World Breastfeeding Week!Celebrate the strength\, love\, and nourishment that mums give — one gift at a time. 💝
URL:https://strictlyseasons.com/calendar/world-breastfeeding-week/
CATEGORIES:Casual Gifting Days,Event Days
END:VEVENT
BEGIN:VEVENT
DTSTART;VALUE=DATE:20250801
DTEND;VALUE=DATE:20250802
DTSTAMP:20260422T015320
CREATED:20250801T152104Z
LAST-MODIFIED:20250801T152104Z
UID:10277-1754006400-1754092799@strictlyseasons.com
SUMMARY:National Girlfriend Day
DESCRIPTION:National Girlfriend Day (August 1st) is a special day to celebrate the amazing women who bring joy\, support\, and strength into our lives—as partners\, friends\, or confidants. 💕 \nIt’s more than just romance—it’s about appreciating the bond and showing love in thoughtful ways. \nDon’t miss the chance to celebrate her today. A little gift goes a long way in saying\, “I see you\, I value you.” 🎁💖
URL:https://strictlyseasons.com/calendar/national-girlfriend-day/
CATEGORIES:Casual Gifting Days
END:VEVENT
BEGIN:VEVENT
DTSTART;VALUE=DATE:20250727
DTEND;VALUE=DATE:20250728
DTSTAMP:20260422T015320
CREATED:20241114T230019Z
LAST-MODIFIED:20241114T230019Z
UID:10002-1753574400-1753660799@strictlyseasons.com
SUMMARY:Parents' Day
DESCRIPTION:Show your love this Parents’ Day with a thoughtful gift!
URL:https://strictlyseasons.com/calendar/parents-day/
CATEGORIES:Casual Gifting Days
END:VEVENT
BEGIN:VEVENT
DTSTART;VALUE=DATE:20250724
DTEND;VALUE=DATE:20250725
DTSTAMP:20260422T015320
CREATED:20241114T225803Z
LAST-MODIFIED:20241114T225803Z
UID:10000-1753315200-1753401599@strictlyseasons.com
SUMMARY:International Self Care Day
DESCRIPTION:Indulge in self-care. Gift yourself (or a loved one) something special!
URL:https://strictlyseasons.com/calendar/international-self-care-day/
CATEGORIES:Casual Gifting Days
END:VEVENT
BEGIN:VEVENT
DTSTART;VALUE=DATE:20250707
DTEND;VALUE=DATE:20250708
DTSTAMP:20260422T015320
CREATED:20240924T192700Z
LAST-MODIFIED:20241115T000838Z
UID:9794-1751846400-1751932799@strictlyseasons.com
SUMMARY:World Chocolate Day
DESCRIPTION:
URL:https://strictlyseasons.com/calendar/world-chocolate-day/
CATEGORIES:Casual Gifting Days
END:VEVENT
BEGIN:VEVENT
DTSTART;VALUE=DATE:20250627
DTEND;VALUE=DATE:20250628
DTSTAMP:20260422T015320
CREATED:20241114T225455Z
LAST-MODIFIED:20241114T225455Z
UID:9997-1750982400-1751068799@strictlyseasons.com
SUMMARY:Micro-\, Small and Medium-Sized Enterprises Day
DESCRIPTION:Celebrate MSMEs and spread the gift of support! This #MSMEday\, gift a product or service from a local business. Your small act can make a big impact. #ShopSmall #SupportLocal
URL:https://strictlyseasons.com/calendar/micro-small-and-medium-sized-enterprises-day/
CATEGORIES:Event Days
END:VEVENT
BEGIN:VEVENT
DTSTART;VALUE=DATE:20250623
DTEND;VALUE=DATE:20250624
DTSTAMP:20260422T015320
CREATED:20241114T225248Z
LAST-MODIFIED:20241114T225248Z
UID:9994-1750636800-1750723199@strictlyseasons.com
SUMMARY:International Women in Engineering Day
DESCRIPTION:Celebrate Women in Engineering! Empower the future by gifting a STEM toy or book to a young girl. #INWED25 #STEMgifts #InspireHer
URL:https://strictlyseasons.com/calendar/international-women-in-engineering-day/
CATEGORIES:Event Days
END:VEVENT
BEGIN:VEVENT
DTSTART;VALUE=DATE:20250621
DTEND;VALUE=DATE:20250622
DTSTAMP:20260422T015320
CREATED:20241114T224953Z
LAST-MODIFIED:20241114T224953Z
UID:9992-1750464000-1750550399@strictlyseasons.com
SUMMARY:International Yoga Day
DESCRIPTION:Celebrate International Yoga Day with the gift of wellness! Share the joy of yoga\, Gifts to help meditations and empower your loved ones with the tools for a healthier\, happier life. 🧘‍♀️🧘‍♂️ #InternationalYogaDay #GiftOfWellness
URL:https://strictlyseasons.com/calendar/international-yoga-day/
CATEGORIES:Casual Gifting Days
END:VEVENT
BEGIN:VEVENT
DTSTART;VALUE=DATE:20250616
DTEND;VALUE=DATE:20250617
DTSTAMP:20260422T015320
CREATED:20241114T224344Z
LAST-MODIFIED:20241114T224344Z
UID:9990-1750032000-1750118399@strictlyseasons.com
SUMMARY:International Day of the African Child
DESCRIPTION:Celebrate the future of Africa! 🎁 \nGive the gift of education and empower young African minds. 🌍 \nSupport initiatives that uplift the lives of African children. \n#InternationalDayOfTheAfricanChild #GiftOfEducation #EmpowerTheFuture
URL:https://strictlyseasons.com/calendar/international-day-of-the-african-child/
CATEGORIES:Event Days
END:VEVENT
BEGIN:VEVENT
DTSTART;VALUE=DATE:20250615
DTEND;VALUE=DATE:20250616
DTSTAMP:20260422T015320
CREATED:20241114T224118Z
LAST-MODIFIED:20241114T224118Z
UID:9988-1749945600-1750031999@strictlyseasons.com
SUMMARY:World Blood Donor Day
DESCRIPTION:Give the Gift of Life. Donate Blood Today.
URL:https://strictlyseasons.com/calendar/world-blood-donor-day/
CATEGORIES:Event Days
END:VEVENT
BEGIN:VEVENT
DTSTART;VALUE=DATE:20250615
DTEND;VALUE=DATE:20250616
DTSTAMP:20260422T015320
CREATED:20240924T192513Z
LAST-MODIFIED:20241115T101008Z
UID:9792-1749945600-1750031999@strictlyseasons.com
SUMMARY:Father's Day
DESCRIPTION:A gift for the greatest dad! From random surprises to special deliveries\, celebrate a great dad today!
URL:https://strictlyseasons.com/calendar/fathers-day/
CATEGORIES:Casual Gifting Days,Event Days
END:VEVENT
BEGIN:VEVENT
DTSTART;VALUE=DATE:20250614
DTEND;VALUE=DATE:20250615
DTSTAMP:20260422T015320
CREATED:20241114T223843Z
LAST-MODIFIED:20241114T223843Z
UID:9986-1749859200-1749945599@strictlyseasons.com
SUMMARY:Global Wellness Day
DESCRIPTION:Gift wellness\, gift life. Celebrate Global Wellness Day with a thoughtful present.
URL:https://strictlyseasons.com/calendar/global-wellness-day/
CATEGORIES:Event Days
END:VEVENT
BEGIN:VEVENT
DTSTART;VALUE=DATE:20250608
DTEND;VALUE=DATE:20250609
DTSTAMP:20260422T015320
CREATED:20241114T223535Z
LAST-MODIFIED:20241114T224709Z
UID:9984-1749340800-1749427199@strictlyseasons.com
SUMMARY:National Best Friends Day
DESCRIPTION:Celebrate your BFF on National Best Friends Day! 🎁 Show your appreciation with a thoughtful gift and make memories that will last a lifetime. #NationalBestFriendsDay #BFFGoals #GiftGiving
URL:https://strictlyseasons.com/calendar/national-best-friends-day/
CATEGORIES:Casual Gifting Days
END:VEVENT
BEGIN:VEVENT
DTSTART;VALUE=DATE:20250607
DTEND;VALUE=DATE:20250608
DTSTAMP:20260422T015320
CREATED:20241114T223006Z
LAST-MODIFIED:20241114T223006Z
UID:9982-1749254400-1749340799@strictlyseasons.com
SUMMARY:World Food Safety Day
DESCRIPTION:Celebrate this day with an event\, workshop\, and branded gift items to celebrate food safety experts.
URL:https://strictlyseasons.com/calendar/world-food-safety-day/
CATEGORIES:Event Days
END:VEVENT
BEGIN:VEVENT
DTSTART;VALUE=DATE:20250606
DTEND;VALUE=DATE:20250607
DTSTAMP:20260422T015320
CREATED:20240924T192339Z
LAST-MODIFIED:20241115T101057Z
UID:9790-1749168000-1749254399@strictlyseasons.com
SUMMARY:Eid-Al-Adha
DESCRIPTION:Eid Mubarak! Spread the love with a perfect gift.
URL:https://strictlyseasons.com/calendar/eid-al-adha/
CATEGORIES:Casual Gifting Days,Event Days
END:VEVENT
BEGIN:VEVENT
DTSTART;VALUE=DATE:20250605
DTEND;VALUE=DATE:20250606
DTSTAMP:20260422T015320
CREATED:20241114T222642Z
LAST-MODIFIED:20241114T222642Z
UID:9979-1749081600-1749167999@strictlyseasons.com
SUMMARY:World Environment Day
DESCRIPTION:Commemorate World Environment Day with the theme -“Our Land. Our Future. We are #GenerationRestoration.”
URL:https://strictlyseasons.com/calendar/world-environment-day/
CATEGORIES:Event Days
END:VEVENT
BEGIN:VEVENT
DTSTART;VALUE=DATE:20250601
DTEND;VALUE=DATE:20250602
DTSTAMP:20260422T015320
CREATED:20241114T221943Z
LAST-MODIFIED:20241114T221943Z
UID:9977-1748736000-1748822399@strictlyseasons.com
SUMMARY:Global Day of Parents
DESCRIPTION:Celebrating Global Day of Parents! 🎉 A day to honor the selfless love and unwavering support of parents worldwide. #GlobalDayofParents #ParentsRock
URL:https://strictlyseasons.com/calendar/global-day-of-parents/
CATEGORIES:Casual Gifting Days
END:VEVENT
END:VCALENDAR