BEGIN:VCALENDAR
VERSION:2.0
PRODID:-//Strictly Seasons Gifts and Hampers - ECPv6.6.4.2//NONSGML v1.0//EN
CALSCALE:GREGORIAN
METHOD:PUBLISH
X-WR-CALNAME:Strictly Seasons Gifts and Hampers
X-ORIGINAL-URL:https://strictlyseasons.com
X-WR-CALDESC:Events for Strictly Seasons Gifts and Hampers
REFRESH-INTERVAL;VALUE=DURATION:PT1H
X-Robots-Tag:noindex
X-PUBLISHED-TTL:PT1H
BEGIN:VTIMEZONE
TZID:UTC
BEGIN:STANDARD
TZOFFSETFROM:+0000
TZOFFSETTO:+0000
TZNAME:UTC
DTSTART:20240101T000000
END:STANDARD
END:VTIMEZONE
BEGIN:VEVENT
DTSTART;VALUE=DATE:20250104
DTEND;VALUE=DATE:20250105
DTSTAMP:20260422T215900
CREATED:20241102T074619Z
LAST-MODIFIED:20241115T001805Z
UID:9904-1735948800-1736035199@strictlyseasons.com
SUMMARY:World Braille Day
DESCRIPTION:Celebrating literacy for the visually impaired and Advocate for their inclusion.
URL:https://strictlyseasons.com/calendar/world-braille-day/
CATEGORIES:Event Days
END:VEVENT
BEGIN:VEVENT
DTSTART;VALUE=DATE:20250102
DTEND;VALUE=DATE:20250103
DTSTAMP:20260422T215900
CREATED:20241102T073359Z
LAST-MODIFIED:20241115T001810Z
UID:9900-1735776000-1735862399@strictlyseasons.com
SUMMARY:World Introvert Day
DESCRIPTION:Celebrate the quiet strength and unique perspectives of  your introverted family\, friends and colleagues!
URL:https://strictlyseasons.com/calendar/world-introvert-day/
CATEGORIES:Event Days
END:VEVENT
BEGIN:VEVENT
DTSTART;VALUE=DATE:20250101
DTEND;VALUE=DATE:20250102
DTSTAMP:20260422T215900
CREATED:20240924T185620Z
LAST-MODIFIED:20241115T001833Z
UID:9742-1735689600-1735775999@strictlyseasons.com
SUMMARY:Sales Kick Off
DESCRIPTION:
URL:https://strictlyseasons.com/calendar/sales-kick-off/
CATEGORIES:Event Days
END:VEVENT
BEGIN:VEVENT
DTSTART;VALUE=DATE:20250101
DTEND;VALUE=DATE:20250102
DTSTAMP:20260422T215900
CREATED:20240924T184941Z
LAST-MODIFIED:20241115T103344Z
UID:9737-1735689600-1735775999@strictlyseasons.com
SUMMARY:New Year's Day
DESCRIPTION:Welcome your loved ones into the new year with a gift!
URL:https://strictlyseasons.com/calendar/new-years-day-sales-kick-off/
CATEGORIES:Event Days
END:VEVENT
BEGIN:VEVENT
DTSTART;VALUE=DATE:20241231
DTEND;VALUE=DATE:20250101
DTSTAMP:20260422T215900
CREATED:20240924T184502Z
LAST-MODIFIED:20240924T184502Z
UID:9735-1735603200-1735689599@strictlyseasons.com
SUMMARY:New Years Eve
DESCRIPTION:
URL:https://strictlyseasons.com/calendar/new-years-eve/
END:VEVENT
BEGIN:VEVENT
DTSTART;VALUE=DATE:20241225
DTEND;VALUE=DATE:20241226
DTSTAMP:20260422T215900
CREATED:20240924T184255Z
LAST-MODIFIED:20240924T184255Z
UID:9733-1735084800-1735171199@strictlyseasons.com
SUMMARY:Christmas Day
DESCRIPTION:
URL:https://strictlyseasons.com/calendar/christmas-day/
END:VEVENT
BEGIN:VEVENT
DTSTART;VALUE=DATE:20241130
DTEND;VALUE=DATE:20241201
DTSTAMP:20260422T215900
CREATED:20240924T183958Z
LAST-MODIFIED:20240924T183958Z
UID:9731-1732924800-1733011199@strictlyseasons.com
SUMMARY:Small Business Saturday
DESCRIPTION:
URL:https://strictlyseasons.com/calendar/small-business-saturday/
END:VEVENT
BEGIN:VEVENT
DTSTART;VALUE=DATE:20241128
DTEND;VALUE=DATE:20241129
DTSTAMP:20260422T215900
CREATED:20240924T183615Z
LAST-MODIFIED:20240924T183615Z
UID:9729-1732752000-1732838399@strictlyseasons.com
SUMMARY:Thanksgiving Day
DESCRIPTION:
URL:https://strictlyseasons.com/calendar/thanksgiving-day/
END:VEVENT
BEGIN:VEVENT
DTSTART;VALUE=DATE:20241119
DTEND;VALUE=DATE:20241120
DTSTAMP:20260422T215900
CREATED:20240924T163148Z
LAST-MODIFIED:20240924T163148Z
UID:9726-1731974400-1732060799@strictlyseasons.com
SUMMARY:International Men's Day
DESCRIPTION:
URL:https://strictlyseasons.com/calendar/international-mens-day/
END:VEVENT
BEGIN:VEVENT
DTSTART;VALUE=DATE:20241113
DTEND;VALUE=DATE:20241114
DTSTAMP:20260422T215900
CREATED:20240924T163044Z
LAST-MODIFIED:20240924T163044Z
UID:9724-1731456000-1731542399@strictlyseasons.com
SUMMARY:World Kindness Day
DESCRIPTION:
URL:https://strictlyseasons.com/calendar/world-kindness-day/
END:VEVENT
BEGIN:VEVENT
DTSTART;VALUE=DATE:20241031
DTEND;VALUE=DATE:20241101
DTSTAMP:20260422T215900
CREATED:20240924T162853Z
LAST-MODIFIED:20240924T162853Z
UID:9722-1730332800-1730419199@strictlyseasons.com
SUMMARY:Halloween
DESCRIPTION:
URL:https://strictlyseasons.com/calendar/halloween/
END:VEVENT
BEGIN:VEVENT
DTSTART;VALUE=DATE:20241016
DTEND;VALUE=DATE:20241017
DTSTAMP:20260422T215900
CREATED:20240924T162711Z
LAST-MODIFIED:20240924T162711Z
UID:9720-1729036800-1729123199@strictlyseasons.com
SUMMARY:Boss' Day
DESCRIPTION:
URL:https://strictlyseasons.com/calendar/boss-day/
END:VEVENT
BEGIN:VEVENT
DTSTART;VALUE=DATE:20241010
DTEND;VALUE=DATE:20241011
DTSTAMP:20260422T215900
CREATED:20240924T162622Z
LAST-MODIFIED:20240924T162622Z
UID:9718-1728518400-1728604799@strictlyseasons.com
SUMMARY:Customer Service Week
DESCRIPTION:
URL:https://strictlyseasons.com/calendar/customer-service-week-4/
END:VEVENT
BEGIN:VEVENT
DTSTART;VALUE=DATE:20241009
DTEND;VALUE=DATE:20241010
DTSTAMP:20260422T215900
CREATED:20240924T161651Z
LAST-MODIFIED:20240924T162426Z
UID:9704-1728432000-1728518399@strictlyseasons.com
SUMMARY:Customer Service Week
DESCRIPTION:
URL:https://strictlyseasons.com/calendar/customer-service-week-3/
END:VEVENT
BEGIN:VEVENT
DTSTART;VALUE=DATE:20241008
DTEND;VALUE=DATE:20241009
DTSTAMP:20260422T215900
CREATED:20240924T161406Z
LAST-MODIFIED:20240924T161406Z
UID:9702-1728345600-1728431999@strictlyseasons.com
SUMMARY:Customer Service Week
DESCRIPTION:
URL:https://strictlyseasons.com/calendar/customer-service-week-2/
END:VEVENT
BEGIN:VEVENT
DTSTART;VALUE=DATE:20241007
DTEND;VALUE=DATE:20241008
DTSTAMP:20260422T215900
CREATED:20240924T161147Z
LAST-MODIFIED:20240924T161328Z
UID:9693-1728259200-1728345599@strictlyseasons.com
SUMMARY:Customer Service Week
DESCRIPTION:
URL:https://strictlyseasons.com/calendar/customer-service-week/
END:VEVENT
BEGIN:VEVENT
DTSTART;VALUE=DATE:20241006
DTEND;VALUE=DATE:20241007
DTSTAMP:20260422T215900
CREATED:20240924T160407Z
LAST-MODIFIED:20240924T160407Z
UID:9691-1728172800-1728259199@strictlyseasons.com
SUMMARY:Grandparent's Day
DESCRIPTION:
URL:https://strictlyseasons.com/calendar/grandparents-day/
END:VEVENT
BEGIN:VEVENT
DTSTART;VALUE=DATE:20241005
DTEND;VALUE=DATE:20241006
DTSTAMP:20260422T215900
CREATED:20240924T130703Z
LAST-MODIFIED:20240924T130703Z
UID:9685-1728086400-1728172799@strictlyseasons.com
SUMMARY:World Teacher's Day
DESCRIPTION:
URL:https://strictlyseasons.com/calendar/world-teachers-day/
END:VEVENT
END:VCALENDAR