BEGIN:VCALENDAR
VERSION:2.0
PRODID:-//Strictly Seasons Gifts and Hampers - ECPv6.6.4.2//NONSGML v1.0//EN
CALSCALE:GREGORIAN
METHOD:PUBLISH
X-WR-CALNAME:Strictly Seasons Gifts and Hampers
X-ORIGINAL-URL:https://strictlyseasons.com
X-WR-CALDESC:Events for Strictly Seasons Gifts and Hampers
REFRESH-INTERVAL;VALUE=DURATION:PT1H
X-Robots-Tag:noindex
X-PUBLISHED-TTL:PT1H
BEGIN:VTIMEZONE
TZID:UTC
BEGIN:STANDARD
TZOFFSETFROM:+0000
TZOFFSETTO:+0000
TZNAME:UTC
DTSTART:20250101T000000
END:STANDARD
END:VTIMEZONE
BEGIN:VEVENT
DTSTART;VALUE=DATE:20250201
DTEND;VALUE=DATE:20250202
DTSTAMP:20260422T090546
CREATED:20241102T084238Z
LAST-MODIFIED:20241115T001754Z
UID:9908-1738368000-1738454399@strictlyseasons.com
SUMMARY:Black History Month
DESCRIPTION:Celebrating the rich history and contributions of Black people.
URL:https://strictlyseasons.com/calendar/black-history-month/
CATEGORIES:Event Days
END:VEVENT
BEGIN:VEVENT
DTSTART;VALUE=DATE:20250204
DTEND;VALUE=DATE:20250205
DTSTAMP:20260422T090546
CREATED:20241102T085000Z
LAST-MODIFIED:20241115T001749Z
UID:9910-1738627200-1738713599@strictlyseasons.com
SUMMARY:World Cancer Day
DESCRIPTION:Uniting the world in the fight against cancer.
URL:https://strictlyseasons.com/calendar/world-cancer-day/
CATEGORIES:Event Days
END:VEVENT
BEGIN:VEVENT
DTSTART;VALUE=DATE:20250207
DTEND;VALUE=DATE:20250208
DTSTAMP:20260422T090546
CREATED:20241102T085920Z
LAST-MODIFIED:20241115T001742Z
UID:9912-1738886400-1738972799@strictlyseasons.com
SUMMARY:Safer Internet Day
DESCRIPTION:Promoting the safe and positive use of digital technology for children and young people.
URL:https://strictlyseasons.com/calendar/safer-internet-day/
CATEGORIES:Event Days
END:VEVENT
BEGIN:VEVENT
DTSTART;VALUE=DATE:20250209
DTEND;VALUE=DATE:20250210
DTSTAMP:20260422T090546
CREATED:20241102T091215Z
LAST-MODIFIED:20241115T001735Z
UID:9914-1739059200-1739145599@strictlyseasons.com
SUMMARY:Chocolate Day
DESCRIPTION:Celebrating the sweet indulgence of chocolate.
URL:https://strictlyseasons.com/calendar/chocolate-day/
CATEGORIES:Casual Gifting Days
END:VEVENT
BEGIN:VEVENT
DTSTART;VALUE=DATE:20250210
DTEND;VALUE=DATE:20250211
DTSTAMP:20260422T090546
CREATED:20240924T185449Z
LAST-MODIFIED:20241115T102927Z
UID:9739-1739145600-1739231999@strictlyseasons.com
SUMMARY:Lunar New Year
DESCRIPTION:Gift the gift of good fortune this Lunar New Year.
URL:https://strictlyseasons.com/calendar/lumar-new-year/
CATEGORIES:Event Days
END:VEVENT
BEGIN:VEVENT
DTSTART;VALUE=DATE:20250211
DTEND;VALUE=DATE:20250212
DTSTAMP:20260422T090546
CREATED:20241102T091453Z
LAST-MODIFIED:20241115T001711Z
UID:9916-1739232000-1739318399@strictlyseasons.com
SUMMARY:International Day of Women and Girls in Science
DESCRIPTION:Celebrating women’s and girls’ contributions to science.
URL:https://strictlyseasons.com/calendar/international-day-of-women-and-girls-in-science/
CATEGORIES:Event Days
END:VEVENT
BEGIN:VEVENT
DTSTART;VALUE=DATE:20250213
DTEND;VALUE=DATE:20250214
DTSTAMP:20260422T090546
CREATED:20241102T095136Z
LAST-MODIFIED:20241115T001702Z
UID:9918-1739404800-1739491199@strictlyseasons.com
SUMMARY:World Radio Day
DESCRIPTION:Promoting the power of radio to inform\, educate\, and entertain.
URL:https://strictlyseasons.com/calendar/world-radio-day/
CATEGORIES:Event Days
END:VEVENT
BEGIN:VEVENT
DTSTART;VALUE=DATE:20250214
DTEND;VALUE=DATE:20250215
DTSTAMP:20260422T090546
CREATED:20240924T185912Z
LAST-MODIFIED:20241115T102741Z
UID:9746-1739491200-1739577599@strictlyseasons.com
SUMMARY:International Book Giving Day
DESCRIPTION:The gift of a book is a gift of a thousand worlds! Let’s help you with the perfect stack!
URL:https://strictlyseasons.com/calendar/international-book-giving-day/
CATEGORIES:Event Days
END:VEVENT
BEGIN:VEVENT
DTSTART;VALUE=DATE:20250214
DTEND;VALUE=DATE:20250215
DTSTAMP:20260422T090546
CREATED:20241102T101220Z
LAST-MODIFIED:20241115T102400Z
UID:9920-1739491200-1739577599@strictlyseasons.com
SUMMARY:Valentine's Day
DESCRIPTION:Celebrating love and affection with a gift from your heart!
URL:https://strictlyseasons.com/calendar/valentines-day-2/
CATEGORIES:Casual Gifting Days,Event Days
END:VEVENT
BEGIN:VEVENT
DTSTART;VALUE=DATE:20250215
DTEND;VALUE=DATE:20250216
DTSTAMP:20260422T090546
CREATED:20241102T231457Z
LAST-MODIFIED:20241115T001549Z
UID:9923-1739577600-1739663999@strictlyseasons.com
SUMMARY:International Childhood Cancer Day
DESCRIPTION:Raising awareness for childhood cancer and supporting young patients and their families.
URL:https://strictlyseasons.com/calendar/international-childhood-cancer-day/
CATEGORIES:Event Days
END:VEVENT
BEGIN:VEVENT
DTSTART;VALUE=DATE:20250217
DTEND;VALUE=DATE:20250218
DTSTAMP:20260422T090546
CREATED:20240924T190024Z
LAST-MODIFIED:20241115T102629Z
UID:9748-1739750400-1739836799@strictlyseasons.com
SUMMARY:Perfume Day
DESCRIPTION:A Perfect Scent\, A Perfect Gift
URL:https://strictlyseasons.com/calendar/prefume-day/
CATEGORIES:Casual Gifting Days
END:VEVENT
BEGIN:VEVENT
DTSTART;VALUE=DATE:20250227
DTEND;VALUE=DATE:20250228
DTSTAMP:20260422T090546
CREATED:20241102T232643Z
LAST-MODIFIED:20241102T232643Z
UID:9929-1740614400-1740700799@strictlyseasons.com
SUMMARY:World Non-governmental Organization Day
DESCRIPTION:World NGO Day recognizes the vital role of NGOs in promoting social change and development.
URL:https://strictlyseasons.com/calendar/world-non-governmental-organization-day/
END:VEVENT
BEGIN:VEVENT
DTSTART;VALUE=DATE:20250228
DTEND;VALUE=DATE:20250301
DTSTAMP:20260422T090546
CREATED:20240924T190231Z
LAST-MODIFIED:20241115T001850Z
UID:9750-1740700800-1740787199@strictlyseasons.com
SUMMARY:First Day Of Ramadan
DESCRIPTION:
URL:https://strictlyseasons.com/calendar/first-day-of-ramadan/
CATEGORIES:Casual Gifting Days,Event Days
END:VEVENT
END:VCALENDAR